BEGIN:VCALENDAR
VERSION:2.0
PRODID:-//Biossun - ECPv6.15.17.1//NONSGML v1.0//EN
CALSCALE:GREGORIAN
METHOD:PUBLISH
X-WR-CALNAME:Biossun
X-ORIGINAL-URL:https://biossun.com
X-WR-CALDESC:Évènements pour Biossun
REFRESH-INTERVAL;VALUE=DURATION:PT1H
X-Robots-Tag:noindex
X-PUBLISHED-TTL:PT1H
BEGIN:VTIMEZONE
TZID:Europe/Paris
BEGIN:DAYLIGHT
TZOFFSETFROM:+0100
TZOFFSETTO:+0200
TZNAME:CEST
DTSTART:20250330T010000
END:DAYLIGHT
BEGIN:STANDARD
TZOFFSETFROM:+0200
TZOFFSETTO:+0100
TZNAME:CET
DTSTART:20251026T010000
END:STANDARD
BEGIN:DAYLIGHT
TZOFFSETFROM:+0100
TZOFFSETTO:+0200
TZNAME:CEST
DTSTART:20260329T010000
END:DAYLIGHT
BEGIN:STANDARD
TZOFFSETFROM:+0200
TZOFFSETTO:+0100
TZNAME:CET
DTSTART:20261025T010000
END:STANDARD
BEGIN:DAYLIGHT
TZOFFSETFROM:+0100
TZOFFSETTO:+0200
TZNAME:CEST
DTSTART:20270328T010000
END:DAYLIGHT
BEGIN:STANDARD
TZOFFSETFROM:+0200
TZOFFSETTO:+0100
TZNAME:CET
DTSTART:20271031T010000
END:STANDARD
END:VTIMEZONE
BEGIN:VEVENT
DTSTART;VALUE=DATE:20260522
DTEND;VALUE=DATE:20260601
DTSTAMP:20260420T151130
CREATED:20260403T064442Z
LAST-MODIFIED:20260403T064442Z
UID:13018-1779408000-1780271999@biossun.com
SUMMARY:Univers Pergola - Foire internationale de Bordeaux - (33)
DESCRIPTION:Retrouvez Univers Pergola à la Foire Internationale de Bordeaux\, du 22 au 31 mai 2026\, au Parc des Expositions de Bordeaux. \nÀ l’occasion de cet événement incontournable\, venez découvrir leurs solutions de protection solaire dédiées à l’aménagement extérieur : pergolas bioclimatiques\, gestion de la lumière et confort thermique pour profiter pleinement de votre terrasse en toute saison. \nRencontrez leurs experts sur place\, échangez autour de votre projet et trouvez des solutions sur mesure pour créer un espace extérieur à la fois esthétique\, fonctionnel et adapté à votre mode de vie. \nUn rendez-vous idéal pour s’inspirer et concrétiser vos envies d’aménagement.
URL:https://biossun.com/evenement/univers-pergola-foire-internationale-de-bordeaux-33/
LOCATION:Parc des Expositions de Bordeaux\, Cours Jules Ladoumegue\, Bordeaux\, 33300\, France
END:VEVENT
END:VCALENDAR