BEGIN:VCALENDAR
VERSION:2.0
PRODID:-//Biossun - ECPv6.15.17.1//NONSGML v1.0//EN
CALSCALE:GREGORIAN
METHOD:PUBLISH
X-WR-CALNAME:Biossun
X-ORIGINAL-URL:https://biossun.com
X-WR-CALDESC:Évènements pour Biossun
REFRESH-INTERVAL;VALUE=DURATION:PT1H
X-Robots-Tag:noindex
X-PUBLISHED-TTL:PT1H
BEGIN:VTIMEZONE
TZID:Europe/Paris
BEGIN:DAYLIGHT
TZOFFSETFROM:+0100
TZOFFSETTO:+0200
TZNAME:CEST
DTSTART:20250330T010000
END:DAYLIGHT
BEGIN:STANDARD
TZOFFSETFROM:+0200
TZOFFSETTO:+0100
TZNAME:CET
DTSTART:20251026T010000
END:STANDARD
BEGIN:DAYLIGHT
TZOFFSETFROM:+0100
TZOFFSETTO:+0200
TZNAME:CEST
DTSTART:20260329T010000
END:DAYLIGHT
BEGIN:STANDARD
TZOFFSETFROM:+0200
TZOFFSETTO:+0100
TZNAME:CET
DTSTART:20261025T010000
END:STANDARD
BEGIN:DAYLIGHT
TZOFFSETFROM:+0100
TZOFFSETTO:+0200
TZNAME:CEST
DTSTART:20270328T010000
END:DAYLIGHT
BEGIN:STANDARD
TZOFFSETFROM:+0200
TZOFFSETTO:+0100
TZNAME:CET
DTSTART:20271031T010000
END:STANDARD
END:VTIMEZONE
BEGIN:VEVENT
DTSTART;VALUE=DATE:20260501
DTEND;VALUE=DATE:20260511
DTSTAMP:20260420T061213
CREATED:20260403T063759Z
LAST-MODIFIED:20260403T065408Z
UID:13014-1777593600-1778457599@biossun.com
SUMMARY:Sunlife By Game - Foire internationale Haute-Savoie/Mont-Blanc - La Roche sur Foron (74)
DESCRIPTION:Retrouvez Sunlife by Game à la Foire Internationale Haute-Savoie Mont-Blanc\, du 1er au 10 mai 2026\, au Parc des Expositions de La Roche-sur-Foron. \nEnvie d’améliorer votre confort extérieur ? Profitez de cet événement pour découvrir les solutions de protection solaire proposées par Sunlife by Game : pergolas bioclimatiques\, pergolas toile\, stores-bannes… tout est pensé pour faire de votre terrasse un espace agréable à vivre au quotidien. \nSur place\, leurs experts vous accompagnent dans votre projet avec des conseils personnalisés et des solutions adaptées à vos besoins. \n📍 Stand S08
URL:https://biossun.com/evenement/sunlife-by-game-foire-internationale-haute-savoie-mont-blanc-la-roche-sur-foron-74/
LOCATION:Parc des Expositions de la Haute Savoie\, 59 rue des Centaures\, La Roche sur Foron\, 74800\, France
END:VEVENT
END:VCALENDAR