BEGIN:VCALENDAR
VERSION:2.0
PRODID:-//Biossun - ECPv6.15.17.1//NONSGML v1.0//EN
CALSCALE:GREGORIAN
METHOD:PUBLISH
X-WR-CALNAME:Biossun
X-ORIGINAL-URL:https://biossun.com
X-WR-CALDESC:Évènements pour Biossun
REFRESH-INTERVAL;VALUE=DURATION:PT1H
X-Robots-Tag:noindex
X-PUBLISHED-TTL:PT1H
BEGIN:VTIMEZONE
TZID:Europe/Paris
BEGIN:DAYLIGHT
TZOFFSETFROM:+0100
TZOFFSETTO:+0200
TZNAME:CEST
DTSTART:20250330T010000
END:DAYLIGHT
BEGIN:STANDARD
TZOFFSETFROM:+0200
TZOFFSETTO:+0100
TZNAME:CET
DTSTART:20251026T010000
END:STANDARD
BEGIN:DAYLIGHT
TZOFFSETFROM:+0100
TZOFFSETTO:+0200
TZNAME:CEST
DTSTART:20260329T010000
END:DAYLIGHT
BEGIN:STANDARD
TZOFFSETFROM:+0200
TZOFFSETTO:+0100
TZNAME:CET
DTSTART:20261025T010000
END:STANDARD
BEGIN:DAYLIGHT
TZOFFSETFROM:+0100
TZOFFSETTO:+0200
TZNAME:CEST
DTSTART:20270328T010000
END:DAYLIGHT
BEGIN:STANDARD
TZOFFSETFROM:+0200
TZOFFSETTO:+0100
TZNAME:CET
DTSTART:20271031T010000
END:STANDARD
END:VTIMEZONE
BEGIN:VEVENT
DTSTART;VALUE=DATE:20260320
DTEND;VALUE=DATE:20260323
DTSTAMP:20260424T103815
CREATED:20260217T152121Z
LAST-MODIFIED:20260217T153556Z
UID:12510-1773964800-1774223999@biossun.com
SUMMARY:Art et Soleil - Salon Habitat & Jardin - La Rochelle (17)
DESCRIPTION:Du 20 au 22 mars\, notre partenaire Art et Soleil sera présent au Salon Habitat & Jardin à La Rochelle\, à l’Espace Encan.\nRetrouvez-les stand C10 pour découvrir nos solutions de protections solaires et échanger autour de vos projets d’aménagement extérieur.
URL:https://biossun.com/evenement/salon-habitat-art-et-soleil/
LOCATION:Espace Encan\, Quai Louis Prunier\, La Rochelle\, 17000\, France
END:VEVENT
END:VCALENDAR