BEGIN:VCALENDAR
VERSION:2.0
PRODID:-//Biossun - ECPv6.15.17.1//NONSGML v1.0//EN
CALSCALE:GREGORIAN
METHOD:PUBLISH
X-WR-CALNAME:Biossun
X-ORIGINAL-URL:https://biossun.com
X-WR-CALDESC:Évènements pour Biossun
REFRESH-INTERVAL;VALUE=DURATION:PT1H
X-Robots-Tag:noindex
X-PUBLISHED-TTL:PT1H
BEGIN:VTIMEZONE
TZID:Europe/Paris
BEGIN:DAYLIGHT
TZOFFSETFROM:+0100
TZOFFSETTO:+0200
TZNAME:CEST
DTSTART:20250330T010000
END:DAYLIGHT
BEGIN:STANDARD
TZOFFSETFROM:+0200
TZOFFSETTO:+0100
TZNAME:CET
DTSTART:20251026T010000
END:STANDARD
BEGIN:DAYLIGHT
TZOFFSETFROM:+0100
TZOFFSETTO:+0200
TZNAME:CEST
DTSTART:20260329T010000
END:DAYLIGHT
BEGIN:STANDARD
TZOFFSETFROM:+0200
TZOFFSETTO:+0100
TZNAME:CET
DTSTART:20261025T010000
END:STANDARD
BEGIN:DAYLIGHT
TZOFFSETFROM:+0100
TZOFFSETTO:+0200
TZNAME:CEST
DTSTART:20270328T010000
END:DAYLIGHT
BEGIN:STANDARD
TZOFFSETFROM:+0200
TZOFFSETTO:+0100
TZNAME:CET
DTSTART:20271031T010000
END:STANDARD
END:VTIMEZONE
BEGIN:VEVENT
DTSTART;VALUE=DATE:20260226
DTEND;VALUE=DATE:20260301
DTSTAMP:20260422T145204
CREATED:20260217T145822Z
LAST-MODIFIED:20260304T075358Z
UID:12490-1772064000-1772323199@biossun.com
SUMMARY:Pôle Habitat - Journées Portes Ouvertes - Sérézin-du-Rhône (69)
DESCRIPTION:Du 26 au 28 février\, notre partenaire Pôle Habitat vous recevra dans leurs showrooms de Sérézin-du-Rhône et Saint-Étienne\, avec une ouverture exceptionnelle le samedi 28. \nTrois jours pour comparer les solutions de protection solaire\, apprécier les finitions et bénéficier de conseils précis\, adaptés à votre configuration. \nDu jeudi 26 au samedi 28 février 2026\n9h–12h / 14h–18h\nShowrooms de Sérézin-du-Rhône et Saint-Étienne
URL:https://biossun.com/evenement/jpo-pole-habitat/
LOCATION:5 D312\, 69360 Sérézin-du-Rhône\, France\, 5 D312\, Sérézin-du-Rhône\, 69360\, France
END:VEVENT
END:VCALENDAR