BEGIN:VCALENDAR
VERSION:2.0
PRODID:-//Biossun - ECPv6.15.17.1//NONSGML v1.0//EN
CALSCALE:GREGORIAN
METHOD:PUBLISH
X-WR-CALNAME:Biossun
X-ORIGINAL-URL:https://biossun.com
X-WR-CALDESC:Évènements pour Biossun
REFRESH-INTERVAL;VALUE=DURATION:PT1H
X-Robots-Tag:noindex
X-PUBLISHED-TTL:PT1H
BEGIN:VTIMEZONE
TZID:Europe/Paris
BEGIN:DAYLIGHT
TZOFFSETFROM:+0100
TZOFFSETTO:+0200
TZNAME:CEST
DTSTART:20250330T010000
END:DAYLIGHT
BEGIN:STANDARD
TZOFFSETFROM:+0200
TZOFFSETTO:+0100
TZNAME:CET
DTSTART:20251026T010000
END:STANDARD
BEGIN:DAYLIGHT
TZOFFSETFROM:+0100
TZOFFSETTO:+0200
TZNAME:CEST
DTSTART:20260329T010000
END:DAYLIGHT
BEGIN:STANDARD
TZOFFSETFROM:+0200
TZOFFSETTO:+0100
TZNAME:CET
DTSTART:20261025T010000
END:STANDARD
BEGIN:DAYLIGHT
TZOFFSETFROM:+0100
TZOFFSETTO:+0200
TZNAME:CEST
DTSTART:20270328T010000
END:DAYLIGHT
BEGIN:STANDARD
TZOFFSETFROM:+0200
TZOFFSETTO:+0100
TZNAME:CET
DTSTART:20271031T010000
END:STANDARD
END:VTIMEZONE
BEGIN:VEVENT
DTSTART;VALUE=DATE:20260513
DTEND;VALUE=DATE:20260519
DTSTAMP:20260420T151200
CREATED:20260403T065016Z
LAST-MODIFIED:20260403T065149Z
UID:13021-1778630400-1779148799@biossun.com
SUMMARY:Avenir Automatisme - Foire Expo du Puy en Velay - (43)
DESCRIPTION:Retrouvez l’équipe d’Avenir Automatisme à la Foire Expo du Puy-en-Velay\, du 13 au 18 mai 2026\, au Jardin Henri Vinay. \nProfitez de cet événement pour découvrir leurs solutions de protection solaire\, pensées pour améliorer votre confort au quotidien. \nSur place\, leurs experts vous accompagnent dans votre projet avec des conseils personnalisés et des solutions adaptées à vos besoins. \nUn rendez-vous incontournable pour imaginer et concrétiser vos projets d’aménagement extérieur.
URL:https://biossun.com/evenement/avenir-automatisme-foire-expo-du-puy-en-velay/
LOCATION:Jardin Henri Vinay\, 5 cours Victor Hugo\, Le-Puy-en-Velay\, 43000\, France
END:VEVENT
END:VCALENDAR